BEGIN:VCALENDAR
VERSION:2.0
PRODID:-//SPARKOH! - ECPv5.16.4//NONSGML v1.0//EN
CALSCALE:GREGORIAN
METHOD:PUBLISH
X-WR-CALNAME:SPARKOH!
X-ORIGINAL-URL:https://sparkoh.be/nl/
X-WR-CALDESC:Evenementen voor SPARKOH!
BEGIN:VTIMEZONE
TZID:Europe/Paris
BEGIN:DAYLIGHT
TZOFFSETFROM:+0100
TZOFFSETTO:+0200
TZNAME:CEST
DTSTART:20260329T010000
END:DAYLIGHT
BEGIN:STANDARD
TZOFFSETFROM:+0200
TZOFFSETTO:+0100
TZNAME:CET
DTSTART:20261025T010000
END:STANDARD
END:VTIMEZONE
BEGIN:VEVENT
DTSTART;TZID=Europe/Paris:20260330T090000
DTEND;TZID=Europe/Paris:20260330T160000
DTSTAMP:20260419T160942
CREATED:20260120T114257Z
LAST-MODIFIED:20260120T114257Z
UID:56885-1774861200-1774886400@sparkoh.be
SUMMARY:Ouverture
DESCRIPTION:
URL:https://sparkoh.be/nl/horaire/ouverture-2210/
LOCATION:3\, Rue de Mons\, Frameries\, Hainaut\, 7080\, Belgique
CATEGORIES:Horaires
END:VEVENT
BEGIN:VEVENT
DTSTART;TZID=Europe/Paris:20260331T090000
DTEND;TZID=Europe/Paris:20260331T160000
DTSTAMP:20260419T160942
CREATED:20260120T114308Z
LAST-MODIFIED:20260120T114308Z
UID:56881-1774947600-1774972800@sparkoh.be
SUMMARY:Ouverture
DESCRIPTION:
URL:https://sparkoh.be/nl/horaire/ouverture-2211/
LOCATION:3\, Rue de Mons\, Frameries\, Hainaut\, 7080\, Belgique
CATEGORIES:Horaires
END:VEVENT
BEGIN:VEVENT
DTSTART;TZID=Europe/Paris:20260401T123000
DTEND;TZID=Europe/Paris:20260401T170000
DTSTAMP:20260419T160942
CREATED:20260120T114321Z
LAST-MODIFIED:20260120T114321Z
UID:56882-1775046600-1775062800@sparkoh.be
SUMMARY:Ouverture
DESCRIPTION:
URL:https://sparkoh.be/nl/horaire/ouverture-2212/
LOCATION:3\, Rue de Mons\, Frameries\, Hainaut\, 7080\, Belgique
CATEGORIES:Horaires
END:VEVENT
BEGIN:VEVENT
DTSTART;TZID=Europe/Paris:20260402T090000
DTEND;TZID=Europe/Paris:20260402T160000
DTSTAMP:20260419T160942
CREATED:20260120T114333Z
LAST-MODIFIED:20260120T114333Z
UID:56883-1775120400-1775145600@sparkoh.be
SUMMARY:Ouverture
DESCRIPTION:
URL:https://sparkoh.be/nl/horaire/ouverture-2213/
LOCATION:3\, Rue de Mons\, Frameries\, Hainaut\, 7080\, Belgique
CATEGORIES:Horaires
END:VEVENT
BEGIN:VEVENT
DTSTART;TZID=Europe/Paris:20260403T090000
DTEND;TZID=Europe/Paris:20260403T160000
DTSTAMP:20260419T160942
CREATED:20260120T114413Z
LAST-MODIFIED:20260120T114413Z
UID:56890-1775206800-1775232000@sparkoh.be
SUMMARY:Ouverture
DESCRIPTION:
URL:https://sparkoh.be/nl/horaire/ouverture-2214/
LOCATION:3\, Rue de Mons\, Frameries\, Hainaut\, 7080\, Belgique
CATEGORIES:Horaires
END:VEVENT
BEGIN:VEVENT
DTSTART;TZID=Europe/Paris:20260405T100000
DTEND;TZID=Europe/Paris:20260405T180000
DTSTAMP:20260419T160942
CREATED:20260120T114434Z
LAST-MODIFIED:20260120T114434Z
UID:56891-1775383200-1775412000@sparkoh.be
SUMMARY:Ouverture
DESCRIPTION:
URL:https://sparkoh.be/nl/horaire/ouverture-2215/
LOCATION:3\, Rue de Mons\, Frameries\, Hainaut\, 7080\, Belgique
CATEGORIES:Horaires
END:VEVENT
BEGIN:VEVENT
DTSTART;TZID=Europe/Paris:20260406T100000
DTEND;TZID=Europe/Paris:20260406T180000
DTSTAMP:20260419T160942
CREATED:20260120T114447Z
LAST-MODIFIED:20260120T114447Z
UID:56892-1775469600-1775498400@sparkoh.be
SUMMARY:Ouverture
DESCRIPTION:
URL:https://sparkoh.be/nl/horaire/ouverture-2216/
LOCATION:3\, Rue de Mons\, Frameries\, Hainaut\, 7080\, Belgique
CATEGORIES:Horaires
END:VEVENT
BEGIN:VEVENT
DTSTART;TZID=Europe/Paris:20260407T090000
DTEND;TZID=Europe/Paris:20260407T170000
DTSTAMP:20260419T160942
CREATED:20260120T114503Z
LAST-MODIFIED:20260323T090714Z
UID:56893-1775552400-1775581200@sparkoh.be
SUMMARY:Ouverture
DESCRIPTION:
URL:https://sparkoh.be/nl/horaire/ouverture-2217/
LOCATION:3\, Rue de Mons\, Frameries\, Hainaut\, 7080\, Belgique
CATEGORIES:Horaires
GEO:50.4195887;3.9029561
X-APPLE-STRUCTURED-LOCATION;VALUE=URI;X-ADDRESS=3 Rue de Mons Frameries Hainaut 7080 Belgique;X-APPLE-RADIUS=500;X-TITLE=3\, Rue de Mons:geo:3.9029561,50.4195887
END:VEVENT
BEGIN:VEVENT
DTSTART;TZID=Europe/Paris:20260408T123000
DTEND;TZID=Europe/Paris:20260408T170000
DTSTAMP:20260419T160942
CREATED:20260120T114536Z
LAST-MODIFIED:20260120T114536Z
UID:56898-1775651400-1775667600@sparkoh.be
SUMMARY:Ouverture
DESCRIPTION:
URL:https://sparkoh.be/nl/horaire/ouverture-2218/
LOCATION:3\, Rue de Mons\, Frameries\, Hainaut\, 7080\, Belgique
CATEGORIES:Horaires
END:VEVENT
BEGIN:VEVENT
DTSTART;TZID=Europe/Paris:20260409T090000
DTEND;TZID=Europe/Paris:20260409T170000
DTSTAMP:20260419T160942
CREATED:20260120T114603Z
LAST-MODIFIED:20260323T090755Z
UID:56899-1775725200-1775754000@sparkoh.be
SUMMARY:Ouverture
DESCRIPTION:
URL:https://sparkoh.be/nl/horaire/ouverture-2219/
LOCATION:3\, Rue de Mons\, Frameries\, Hainaut\, 7080\, Belgique
CATEGORIES:Horaires
GEO:50.4195887;3.9029561
X-APPLE-STRUCTURED-LOCATION;VALUE=URI;X-ADDRESS=3 Rue de Mons Frameries Hainaut 7080 Belgique;X-APPLE-RADIUS=500;X-TITLE=3\, Rue de Mons:geo:3.9029561,50.4195887
END:VEVENT
BEGIN:VEVENT
DTSTART;TZID=Europe/Paris:20260410T090000
DTEND;TZID=Europe/Paris:20260410T170000
DTSTAMP:20260419T160942
CREATED:20260120T114622Z
LAST-MODIFIED:20260323T090807Z
UID:56900-1775811600-1775840400@sparkoh.be
SUMMARY:Ouverture
DESCRIPTION:
URL:https://sparkoh.be/nl/horaire/ouverture-2220/
LOCATION:3\, Rue de Mons\, Frameries\, Hainaut\, 7080\, Belgique
CATEGORIES:Horaires
GEO:50.4195887;3.9029561
X-APPLE-STRUCTURED-LOCATION;VALUE=URI;X-ADDRESS=3 Rue de Mons Frameries Hainaut 7080 Belgique;X-APPLE-RADIUS=500;X-TITLE=3\, Rue de Mons:geo:3.9029561,50.4195887
END:VEVENT
BEGIN:VEVENT
DTSTART;TZID=Europe/Paris:20260412T100000
DTEND;TZID=Europe/Paris:20260412T180000
DTSTAMP:20260419T160942
CREATED:20260120T114705Z
LAST-MODIFIED:20260120T114705Z
UID:56904-1775988000-1776016800@sparkoh.be
SUMMARY:Ouverture
DESCRIPTION:
URL:https://sparkoh.be/nl/horaire/ouverture-2221/
LOCATION:3\, Rue de Mons\, Frameries\, Hainaut\, 7080\, Belgique
CATEGORIES:Horaires
END:VEVENT
BEGIN:VEVENT
DTSTART;TZID=Europe/Paris:20260413T090000
DTEND;TZID=Europe/Paris:20260413T170000
DTSTAMP:20260419T160942
CREATED:20260120T114723Z
LAST-MODIFIED:20260323T090823Z
UID:56906-1776070800-1776099600@sparkoh.be
SUMMARY:Ouverture
DESCRIPTION:
URL:https://sparkoh.be/nl/horaire/ouverture-2222/
LOCATION:3\, Rue de Mons\, Frameries\, Hainaut\, 7080\, Belgique
CATEGORIES:Horaires
GEO:50.4195887;3.9029561
X-APPLE-STRUCTURED-LOCATION;VALUE=URI;X-ADDRESS=3 Rue de Mons Frameries Hainaut 7080 Belgique;X-APPLE-RADIUS=500;X-TITLE=3\, Rue de Mons:geo:3.9029561,50.4195887
END:VEVENT
BEGIN:VEVENT
DTSTART;TZID=Europe/Paris:20260414T090000
DTEND;TZID=Europe/Paris:20260414T170000
DTSTAMP:20260419T160942
CREATED:20260120T114735Z
LAST-MODIFIED:20260323T090839Z
UID:56907-1776157200-1776186000@sparkoh.be
SUMMARY:Ouverture
DESCRIPTION:
URL:https://sparkoh.be/nl/horaire/ouverture-2223/
LOCATION:3\, Rue de Mons\, Frameries\, Hainaut\, 7080\, Belgique
CATEGORIES:Horaires
GEO:50.4195887;3.9029561
X-APPLE-STRUCTURED-LOCATION;VALUE=URI;X-ADDRESS=3 Rue de Mons Frameries Hainaut 7080 Belgique;X-APPLE-RADIUS=500;X-TITLE=3\, Rue de Mons:geo:3.9029561,50.4195887
END:VEVENT
BEGIN:VEVENT
DTSTART;TZID=Europe/Paris:20260415T123000
DTEND;TZID=Europe/Paris:20260415T170000
DTSTAMP:20260419T160942
CREATED:20260120T114749Z
LAST-MODIFIED:20260120T114749Z
UID:56901-1776256200-1776272400@sparkoh.be
SUMMARY:Ouverture
DESCRIPTION:
URL:https://sparkoh.be/nl/horaire/ouverture-2224/
LOCATION:3\, Rue de Mons\, Frameries\, Hainaut\, 7080\, Belgique
CATEGORIES:Horaires
END:VEVENT
BEGIN:VEVENT
DTSTART;TZID=Europe/Paris:20260416T090000
DTEND;TZID=Europe/Paris:20260416T170000
DTSTAMP:20260419T160942
CREATED:20260120T114843Z
LAST-MODIFIED:20260323T090904Z
UID:56913-1776330000-1776358800@sparkoh.be
SUMMARY:Ouverture
DESCRIPTION:
URL:https://sparkoh.be/nl/horaire/ouverture-2226/
LOCATION:3\, Rue de Mons\, Frameries\, Hainaut\, 7080\, Belgique
CATEGORIES:Horaires
GEO:50.4195887;3.9029561
X-APPLE-STRUCTURED-LOCATION;VALUE=URI;X-ADDRESS=3 Rue de Mons Frameries Hainaut 7080 Belgique;X-APPLE-RADIUS=500;X-TITLE=3\, Rue de Mons:geo:3.9029561,50.4195887
END:VEVENT
BEGIN:VEVENT
DTSTART;TZID=Europe/Paris:20260417T090000
DTEND;TZID=Europe/Paris:20260417T170000
DTSTAMP:20260419T160942
CREATED:20260120T114904Z
LAST-MODIFIED:20260323T090918Z
UID:56914-1776416400-1776445200@sparkoh.be
SUMMARY:Ouverture
DESCRIPTION:
URL:https://sparkoh.be/nl/horaire/ouverture-2227/
LOCATION:3\, Rue de Mons\, Frameries\, Hainaut\, 7080\, Belgique
CATEGORIES:Horaires
GEO:50.4195887;3.9029561
X-APPLE-STRUCTURED-LOCATION;VALUE=URI;X-ADDRESS=3 Rue de Mons Frameries Hainaut 7080 Belgique;X-APPLE-RADIUS=500;X-TITLE=3\, Rue de Mons:geo:3.9029561,50.4195887
END:VEVENT
BEGIN:VEVENT
DTSTART;TZID=Europe/Paris:20260418T100000
DTEND;TZID=Europe/Paris:20260418T180000
DTSTAMP:20260419T160942
CREATED:20260120T114830Z
LAST-MODIFIED:20260323T090940Z
UID:56912-1776506400-1776535200@sparkoh.be
SUMMARY:Ouverture
DESCRIPTION:
URL:https://sparkoh.be/nl/horaire/ouverture-2225/
LOCATION:3\, Rue de Mons\, Frameries\, Hainaut\, 7080\, Belgique
CATEGORIES:Horaires
GEO:50.4195887;3.9029561
X-APPLE-STRUCTURED-LOCATION;VALUE=URI;X-ADDRESS=3 Rue de Mons Frameries Hainaut 7080 Belgique;X-APPLE-RADIUS=500;X-TITLE=3\, Rue de Mons:geo:3.9029561,50.4195887
END:VEVENT
BEGIN:VEVENT
DTSTART;TZID=Europe/Paris:20260419T100000
DTEND;TZID=Europe/Paris:20260419T180000
DTSTAMP:20260419T160942
CREATED:20260120T114916Z
LAST-MODIFIED:20260120T114916Z
UID:56916-1776592800-1776621600@sparkoh.be
SUMMARY:Ouverture
DESCRIPTION:
URL:https://sparkoh.be/nl/horaire/ouverture-2228/
LOCATION:3\, Rue de Mons\, Frameries\, Hainaut\, 7080\, Belgique
CATEGORIES:Horaires
END:VEVENT
BEGIN:VEVENT
DTSTART;TZID=Europe/Paris:20260420T090000
DTEND;TZID=Europe/Paris:20260420T170000
DTSTAMP:20260419T160942
CREATED:20260120T114944Z
LAST-MODIFIED:20260323T090957Z
UID:56921-1776675600-1776704400@sparkoh.be
SUMMARY:Ouverture
DESCRIPTION:
URL:https://sparkoh.be/nl/horaire/ouverture-2229/
LOCATION:3\, Rue de Mons\, Frameries\, Hainaut\, 7080\, Belgique
CATEGORIES:Horaires
GEO:50.4195887;3.9029561
X-APPLE-STRUCTURED-LOCATION;VALUE=URI;X-ADDRESS=3 Rue de Mons Frameries Hainaut 7080 Belgique;X-APPLE-RADIUS=500;X-TITLE=3\, Rue de Mons:geo:3.9029561,50.4195887
END:VEVENT
BEGIN:VEVENT
DTSTART;TZID=Europe/Paris:20260421T090000
DTEND;TZID=Europe/Paris:20260421T170000
DTSTAMP:20260419T160942
CREATED:20260120T114954Z
LAST-MODIFIED:20260323T091010Z
UID:56922-1776762000-1776790800@sparkoh.be
SUMMARY:Ouverture
DESCRIPTION:
URL:https://sparkoh.be/nl/horaire/ouverture-2230/
LOCATION:3\, Rue de Mons\, Frameries\, Hainaut\, 7080\, Belgique
CATEGORIES:Horaires
GEO:50.4195887;3.9029561
X-APPLE-STRUCTURED-LOCATION;VALUE=URI;X-ADDRESS=3 Rue de Mons Frameries Hainaut 7080 Belgique;X-APPLE-RADIUS=500;X-TITLE=3\, Rue de Mons:geo:3.9029561,50.4195887
END:VEVENT
BEGIN:VEVENT
DTSTART;TZID=Europe/Paris:20260422T123000
DTEND;TZID=Europe/Paris:20260422T170000
DTSTAMP:20260419T160942
CREATED:20260120T115009Z
LAST-MODIFIED:20260120T115009Z
UID:56923-1776861000-1776877200@sparkoh.be
SUMMARY:Ouverture
DESCRIPTION:
URL:https://sparkoh.be/nl/horaire/ouverture-2231/
LOCATION:3\, Rue de Mons\, Frameries\, Hainaut\, 7080\, Belgique
CATEGORIES:Horaires
END:VEVENT
BEGIN:VEVENT
DTSTART;TZID=Europe/Paris:20260423T090000
DTEND;TZID=Europe/Paris:20260423T170000
DTSTAMP:20260419T160942
CREATED:20260120T115023Z
LAST-MODIFIED:20260323T091024Z
UID:56925-1776934800-1776963600@sparkoh.be
SUMMARY:Ouverture
DESCRIPTION:
URL:https://sparkoh.be/nl/horaire/ouverture-2232/
LOCATION:3\, Rue de Mons\, Frameries\, Hainaut\, 7080\, Belgique
CATEGORIES:Horaires
GEO:50.4195887;3.9029561
X-APPLE-STRUCTURED-LOCATION;VALUE=URI;X-ADDRESS=3 Rue de Mons Frameries Hainaut 7080 Belgique;X-APPLE-RADIUS=500;X-TITLE=3\, Rue de Mons:geo:3.9029561,50.4195887
END:VEVENT
BEGIN:VEVENT
DTSTART;TZID=Europe/Paris:20260424T090000
DTEND;TZID=Europe/Paris:20260424T170000
DTSTAMP:20260419T160942
CREATED:20260120T115049Z
LAST-MODIFIED:20260323T091039Z
UID:56924-1777021200-1777050000@sparkoh.be
SUMMARY:Ouverture
DESCRIPTION:
URL:https://sparkoh.be/nl/horaire/ouverture-2233/
LOCATION:3\, Rue de Mons\, Frameries\, Hainaut\, 7080\, Belgique
CATEGORIES:Horaires
GEO:50.4195887;3.9029561
X-APPLE-STRUCTURED-LOCATION;VALUE=URI;X-ADDRESS=3 Rue de Mons Frameries Hainaut 7080 Belgique;X-APPLE-RADIUS=500;X-TITLE=3\, Rue de Mons:geo:3.9029561,50.4195887
END:VEVENT
BEGIN:VEVENT
DTSTART;TZID=Europe/Paris:20260425T100000
DTEND;TZID=Europe/Paris:20260425T180000
DTSTAMP:20260419T160942
CREATED:20260120T115112Z
LAST-MODIFIED:20260120T115112Z
UID:56931-1777111200-1777140000@sparkoh.be
SUMMARY:Ouverture
DESCRIPTION:
URL:https://sparkoh.be/nl/horaire/ouverture-2234/
LOCATION:3\, Rue de Mons\, Frameries\, Hainaut\, 7080\, Belgique
CATEGORIES:Horaires
END:VEVENT
BEGIN:VEVENT
DTSTART;TZID=Europe/Paris:20260426T100000
DTEND;TZID=Europe/Paris:20260426T180000
DTSTAMP:20260419T160942
CREATED:20260120T115128Z
LAST-MODIFIED:20260120T115128Z
UID:56932-1777197600-1777226400@sparkoh.be
SUMMARY:Ouverture
DESCRIPTION:
URL:https://sparkoh.be/nl/horaire/ouverture-2235/
LOCATION:3\, Rue de Mons\, Frameries\, Hainaut\, 7080\, Belgique
CATEGORIES:Horaires
END:VEVENT
BEGIN:VEVENT
DTSTART;TZID=Europe/Paris:20260427T100000
DTEND;TZID=Europe/Paris:20260427T180000
DTSTAMP:20260419T160942
CREATED:20260120T115144Z
LAST-MODIFIED:20260120T115144Z
UID:56933-1777284000-1777312800@sparkoh.be
SUMMARY:Ouverture
DESCRIPTION:
URL:https://sparkoh.be/nl/horaire/ouverture-2236/
LOCATION:3\, Rue de Mons\, Frameries\, Hainaut\, 7080\, Belgique
CATEGORIES:Horaires
END:VEVENT
BEGIN:VEVENT
DTSTART;TZID=Europe/Paris:20260428T100000
DTEND;TZID=Europe/Paris:20260428T180000
DTSTAMP:20260419T160942
CREATED:20260120T115155Z
LAST-MODIFIED:20260120T115155Z
UID:56934-1777370400-1777399200@sparkoh.be
SUMMARY:Ouverture
DESCRIPTION:
URL:https://sparkoh.be/nl/horaire/ouverture-2237/
LOCATION:3\, Rue de Mons\, Frameries\, Hainaut\, 7080\, Belgique
CATEGORIES:Horaires
END:VEVENT
BEGIN:VEVENT
DTSTART;TZID=Europe/Paris:20260429T100000
DTEND;TZID=Europe/Paris:20260429T180000
DTSTAMP:20260419T160942
CREATED:20260120T115204Z
LAST-MODIFIED:20260120T115204Z
UID:56935-1777456800-1777485600@sparkoh.be
SUMMARY:Ouverture
DESCRIPTION:
URL:https://sparkoh.be/nl/horaire/ouverture-2238/
LOCATION:3\, Rue de Mons\, Frameries\, Hainaut\, 7080\, Belgique
CATEGORIES:Horaires
END:VEVENT
BEGIN:VEVENT
DTSTART;TZID=Europe/Paris:20260430T100000
DTEND;TZID=Europe/Paris:20260430T180000
DTSTAMP:20260419T160942
CREATED:20260120T115218Z
LAST-MODIFIED:20260120T115218Z
UID:56938-1777543200-1777572000@sparkoh.be
SUMMARY:Ouverture
DESCRIPTION:
URL:https://sparkoh.be/nl/horaire/ouverture-2239/
LOCATION:3\, Rue de Mons\, Frameries\, Hainaut\, 7080\, Belgique
CATEGORIES:Horaires
END:VEVENT
BEGIN:VEVENT
DTSTART;TZID=Europe/Paris:20260501T100000
DTEND;TZID=Europe/Paris:20260501T180000
DTSTAMP:20260419T160942
CREATED:20260120T115256Z
LAST-MODIFIED:20260120T115333Z
UID:56948-1777629600-1777658400@sparkoh.be
SUMMARY:Ouverture
DESCRIPTION:
URL:https://sparkoh.be/nl/horaire/ouverture-2240/
LOCATION:3\, Rue de Mons\, Frameries\, Hainaut\, 7080\, Belgique
CATEGORIES:Horaires
GEO:50.4195887;3.9029561
X-APPLE-STRUCTURED-LOCATION;VALUE=URI;X-ADDRESS=3 Rue de Mons Frameries Hainaut 7080 Belgique;X-APPLE-RADIUS=500;X-TITLE=3\, Rue de Mons:geo:3.9029561,50.4195887
END:VEVENT
BEGIN:VEVENT
DTSTART;TZID=Europe/Paris:20260502T100000
DTEND;TZID=Europe/Paris:20260502T180000
DTSTAMP:20260419T160942
CREATED:20260120T115342Z
LAST-MODIFIED:20260120T115342Z
UID:56942-1777716000-1777744800@sparkoh.be
SUMMARY:Ouverture
DESCRIPTION:
URL:https://sparkoh.be/nl/horaire/ouverture-2241/
LOCATION:3\, Rue de Mons\, Frameries\, Hainaut\, 7080\, Belgique
CATEGORIES:Horaires
END:VEVENT
END:VCALENDAR