BEGIN:VCALENDAR
VERSION:2.0
PRODID:-//SPARKOH! - ECPv5.16.4//NONSGML v1.0//EN
CALSCALE:GREGORIAN
METHOD:PUBLISH
X-WR-CALNAME:SPARKOH!
X-ORIGINAL-URL:https://sparkoh.be
X-WR-CALDESC:évènements pour SPARKOH!
BEGIN:VTIMEZONE
TZID:Europe/Paris
BEGIN:DAYLIGHT
TZOFFSETFROM:+0100
TZOFFSETTO:+0200
TZNAME:CEST
DTSTART:20190331T010000
END:DAYLIGHT
BEGIN:STANDARD
TZOFFSETFROM:+0200
TZOFFSETTO:+0100
TZNAME:CET
DTSTART:20191027T010000
END:STANDARD
END:VTIMEZONE
BEGIN:VEVENT
DTSTART;TZID=Europe/Paris:20190811T100000
DTEND;TZID=Europe/Paris:20190811T180000
DTSTAMP:20260422T131954
CREATED:20190710T080916Z
LAST-MODIFIED:20190723T081101Z
UID:21284-1565517600-1565546400@sparkoh.be
SUMMARY:Week-end de la nuit des étoiles
DESCRIPTION:Rendez-vous pour un WEEK-END incontournable dédié aux étoiles\, au ciel et à l’univers ! \nUn événement gratuit à vivre en famille ou entre amis avec de nombreuses activités inédites.
URL:https://sparkoh.be/horaire/week-end-de-la-nuit-des-etoiles-2/
LOCATION:Parc d’aventures scientifiques\, 3\, Rue de Mons\, Frameries\, Hainaut\, 7080\, Belgique
ORGANIZER;CN="Le%20Pass":MAILTO:pass@sparkoh.be
GEO:50.4195887;3.9029561
X-APPLE-STRUCTURED-LOCATION;VALUE=URI;X-ADDRESS=Parc d’aventures scientifiques 3 Rue de Mons Frameries Hainaut 7080 Belgique;X-APPLE-RADIUS=500;X-TITLE=3\, Rue de Mons:geo:3.9029561,50.4195887
END:VEVENT
END:VCALENDAR