BEGIN:VCALENDAR
VERSION:2.0
PRODID:-//SPARKOH! - ECPv5.16.4//NONSGML v1.0//EN
CALSCALE:GREGORIAN
METHOD:PUBLISH
X-WR-CALNAME:SPARKOH!
X-ORIGINAL-URL:https://sparkoh.be
X-WR-CALDESC:évènements pour SPARKOH!
BEGIN:VTIMEZONE
TZID:Europe/Paris
BEGIN:DAYLIGHT
TZOFFSETFROM:+0100
TZOFFSETTO:+0200
TZNAME:CEST
DTSTART:20200329T010000
END:DAYLIGHT
BEGIN:STANDARD
TZOFFSETFROM:+0200
TZOFFSETTO:+0100
TZNAME:CET
DTSTART:20201025T010000
END:STANDARD
END:VTIMEZONE
BEGIN:VEVENT
DTSTART;TZID=Europe/Paris:20200825T100000
DTEND;TZID=Europe/Paris:20200825T180000
DTSTAMP:20260420T130557
CREATED:20200703T101212Z
LAST-MODIFIED:20200703T101212Z
UID:26548-1598349600-1598378400@sparkoh.be
SUMMARY:Ouverture
DESCRIPTION:
URL:https://sparkoh.be/horaire/ouverture-825/
CATEGORIES:Horaires
END:VEVENT
END:VCALENDAR