BEGIN:VCALENDAR
VERSION:2.0
PRODID:-//SPARKOH! - ECPv5.16.4//NONSGML v1.0//EN
CALSCALE:GREGORIAN
METHOD:PUBLISH
X-WR-CALNAME:SPARKOH!
X-ORIGINAL-URL:https://sparkoh.be
X-WR-CALDESC:évènements pour SPARKOH!
BEGIN:VTIMEZONE
TZID:Europe/Paris
BEGIN:DAYLIGHT
TZOFFSETFROM:+0100
TZOFFSETTO:+0200
TZNAME:CEST
DTSTART:20250330T010000
END:DAYLIGHT
BEGIN:STANDARD
TZOFFSETFROM:+0200
TZOFFSETTO:+0100
TZNAME:CET
DTSTART:20251026T010000
END:STANDARD
END:VTIMEZONE
BEGIN:VEVENT
DTSTART;TZID=Europe/Paris:20250512T090000
DTEND;TZID=Europe/Paris:20250512T160000
DTSTAMP:20260421T205121
CREATED:20241216T114127Z
LAST-MODIFIED:20241216T114127Z
UID:52834-1747040400-1747065600@sparkoh.be
SUMMARY:Ouverture
DESCRIPTION:
URL:https://sparkoh.be/horaire/ouverture-1947/
CATEGORIES:Horaires
END:VEVENT
END:VCALENDAR