BEGIN:VCALENDAR
VERSION:2.0
PRODID:-//SPARKOH! - ECPv5.16.4//NONSGML v1.0//EN
CALSCALE:GREGORIAN
METHOD:PUBLISH
X-WR-CALNAME:SPARKOH!
X-ORIGINAL-URL:https://sparkoh.be
X-WR-CALDESC:évènements pour SPARKOH!
BEGIN:VTIMEZONE
TZID:Europe/Paris
BEGIN:DAYLIGHT
TZOFFSETFROM:+0100
TZOFFSETTO:+0200
TZNAME:CEST
DTSTART:20230326T010000
END:DAYLIGHT
BEGIN:STANDARD
TZOFFSETFROM:+0200
TZOFFSETTO:+0100
TZNAME:CET
DTSTART:20231029T010000
END:STANDARD
END:VTIMEZONE
BEGIN:VEVENT
DTSTART;TZID=Europe/Paris:20231123T090000
DTEND;TZID=Europe/Paris:20231123T160000
DTSTAMP:20260420T115801
CREATED:20230515T121914Z
LAST-MODIFIED:20230515T121914Z
UID:46356-1700730000-1700755200@sparkoh.be
SUMMARY:Ouverture
DESCRIPTION:
URL:https://sparkoh.be/horaire/ouverture-1520/
CATEGORIES:Horaires
END:VEVENT
END:VCALENDAR